Package: scider Version: 1.9.0 Command: /Library/Frameworks/R.framework/Resources/bin/R CMD build --keep-empty-dirs --no-resave-data scider StartedAt: 2025-11-13 17:37:39 -0500 (Thu, 13 Nov 2025) EndedAt: 2025-11-13 17:38:04 -0500 (Thu, 13 Nov 2025) EllapsedTime: 25.3 seconds RetCode: 0 Status: OK PackageFile: scider_1.9.0.tar.gz PackageFileSize: 3.191 MiB