Package: scider Version: 1.9.0 Command: rm -rf scider.buildbin-libdir && mkdir scider.buildbin-libdir && /Users/biocbuild/BBS/utils/build-universal.sh scider_1.9.0.tar.gz /Library/Frameworks/R.framework/Resources/bin/R scider.buildbin-libdir StartedAt: 2025-11-14 23:50:47 -0500 (Fri, 14 Nov 2025) EndedAt: 2025-11-14 23:51:04 -0500 (Fri, 14 Nov 2025) EllapsedTime: 17.4 seconds RetCode: 0 Status: OK PackageFile: scider_1.9.0.tgz PackageFileSize: 3.468 MiB