Package: scider Version: 1.9.0 Maintainer: Yunshun Chen MaintainerEmail: yuchen at wehi.edu.au git_url: https://git.bioconductor.org/packages/scider git_branch: devel git_last_commit: e0a2a6b git_last_commit_date: 2025-10-29 11:26:16 -0500 (Wed, 29 Oct 2025)