Package: schex Version: 1.25.0 Command: /home/biocbuild/bbs-3.23-bioc/R/bin/R CMD INSTALL schex StartedAt: 2025-11-11 15:26:53 -0500 (Tue, 11 Nov 2025) EndedAt: 2025-11-11 15:27:19 -0500 (Tue, 11 Nov 2025) EllapsedTime: 25.9 seconds RetCode: 0 Status: OK