Package: schex Version: 1.25.0 Command: /Library/Frameworks/R.framework/Resources/bin/R CMD INSTALL schex StartedAt: 2025-11-13 15:14:29 -0500 (Thu, 13 Nov 2025) EndedAt: 2025-11-13 15:14:39 -0500 (Thu, 13 Nov 2025) EllapsedTime: 10.3 seconds RetCode: 0 Status: OK