Package: schex Version: 1.25.0 Command: /Library/Frameworks/R.framework/Resources/bin/R CMD build --keep-empty-dirs --no-resave-data schex StartedAt: 2025-11-13 17:37:02 -0500 (Thu, 13 Nov 2025) EndedAt: 2025-11-13 17:37:48 -0500 (Thu, 13 Nov 2025) EllapsedTime: 45.5 seconds RetCode: 0 Status: OK PackageFile: schex_1.25.0.tar.gz PackageFileSize: 3.693 MiB