Package: schex Version: 1.25.0 Maintainer: Saskia Freytag MaintainerEmail: freytag.s at wehi.edu.au git_url: https://git.bioconductor.org/packages/schex git_branch: devel git_last_commit: 34f1fa2 git_last_commit_date: 2025-10-29 10:55:11 -0500 (Wed, 29 Oct 2025)