Package: scds Version: 1.27.0 Command: /home/biocbuild/bbs-3.23-bioc/R/bin/R CMD INSTALL scds StartedAt: 2025-11-13 15:18:55 -0500 (Thu, 13 Nov 2025) EndedAt: 2025-11-13 15:19:18 -0500 (Thu, 13 Nov 2025) EllapsedTime: 23.1 seconds RetCode: 0 Status: OK