Package: scds Version: 1.27.0 Command: /home/biocbuild/bbs-3.23-bioc/R/bin/R CMD build --keep-empty-dirs --no-resave-data scds StartedAt: 2025-11-14 19:51:40 -0500 (Fri, 14 Nov 2025) EndedAt: 2025-11-14 19:52:49 -0500 (Fri, 14 Nov 2025) EllapsedTime: 69.1 seconds RetCode: 0 Status: OK PackageFile: scds_1.27.0.tar.gz PackageFileSize: 1.383 MiB