Package: scds Version: 1.27.0 Command: /Library/Frameworks/R.framework/Resources/bin/R CMD INSTALL scds StartedAt: 2025-11-14 15:12:37 -0500 (Fri, 14 Nov 2025) EndedAt: 2025-11-14 15:12:47 -0500 (Fri, 14 Nov 2025) EllapsedTime: 9.4 seconds RetCode: 0 Status: OK