Package: scds Version: 1.27.0 Command: /Library/Frameworks/R.framework/Resources/bin/R CMD build --keep-empty-dirs --no-resave-data scds StartedAt: 2025-11-14 17:33:38 -0500 (Fri, 14 Nov 2025) EndedAt: 2025-11-14 17:34:06 -0500 (Fri, 14 Nov 2025) EllapsedTime: 28.3 seconds RetCode: 0 Status: OK PackageFile: scds_1.27.0.tar.gz PackageFileSize: 1.388 MiB