Package: scds Version: 1.27.0 Maintainer: Dennis Kostka MaintainerEmail: kostka at pitt.edu git_url: https://git.bioconductor.org/packages/scds git_branch: devel git_last_commit: e3ed254 git_last_commit_date: 2025-10-29 10:50:18 -0500 (Wed, 29 Oct 2025)