Package: scde Version: 2.39.0 Command: /home/biocbuild/bbs-3.23-bioc/R/bin/R CMD INSTALL scde StartedAt: 2025-11-26 15:13:04 -0500 (Wed, 26 Nov 2025) EndedAt: 2025-11-26 15:13:58 -0500 (Wed, 26 Nov 2025) EllapsedTime: 53.4 seconds RetCode: 0 Status: OK