Package: scde Version: 2.39.0 Command: /Library/Frameworks/R.framework/Resources/bin/R CMD INSTALL scde StartedAt: 2025-11-14 15:07:36 -0500 (Fri, 14 Nov 2025) EndedAt: 2025-11-14 15:07:52 -0500 (Fri, 14 Nov 2025) EllapsedTime: 16.0 seconds RetCode: 0 Status: OK