Package: scde Version: 2.39.0 Command: /Library/Frameworks/R.framework/Resources/bin/R CMD build --keep-empty-dirs --no-resave-data scde StartedAt: 2025-11-14 17:33:21 -0500 (Fri, 14 Nov 2025) EndedAt: 2025-11-14 17:33:22 -0500 (Fri, 14 Nov 2025) EllapsedTime: 1.0 seconds RetCode: 0 Status: OK PackageFile: scde_2.39.0.tar.gz PackageFileSize: 1.059 MiB