Package: sccomp Version: 2.3.0 Command: rm -rf sccomp.buildbin-libdir && mkdir sccomp.buildbin-libdir && /Users/biocbuild/BBS/utils/build-universal.sh sccomp_2.3.0.tar.gz /Library/Frameworks/R.framework/Resources/bin/R sccomp.buildbin-libdir StartedAt: 2025-11-13 23:55:06 -0500 (Thu, 13 Nov 2025) EndedAt: 2025-11-13 23:55:23 -0500 (Thu, 13 Nov 2025) EllapsedTime: 16.3 seconds RetCode: 0 Status: OK PackageFile: sccomp_2.3.0.tgz PackageFileSize: 5.369 MiB