Package: scatterHatch Version: 1.17.0 Command: /Library/Frameworks/R.framework/Resources/bin/R CMD INSTALL scatterHatch StartedAt: 2025-11-13 15:04:29 -0500 (Thu, 13 Nov 2025) EndedAt: 2025-11-13 15:04:33 -0500 (Thu, 13 Nov 2025) EllapsedTime: 4.3 seconds RetCode: 0 Status: OK