Package: scatterHatch Version: 1.17.0 Command: /Library/Frameworks/R.framework/Resources/bin/R CMD build --keep-empty-dirs --no-resave-data scatterHatch StartedAt: 2025-11-13 17:35:24 -0500 (Thu, 13 Nov 2025) EndedAt: 2025-11-13 17:35:40 -0500 (Thu, 13 Nov 2025) EllapsedTime: 16.2 seconds RetCode: 0 Status: OK PackageFile: scatterHatch_1.17.0.tar.gz PackageFileSize: 4.243 MiB