Package: scatterHatch Version: 1.17.0 Maintainer: Atul Deshpande MaintainerEmail: adeshpande at jhu.edu git_url: https://git.bioconductor.org/packages/scatterHatch git_branch: devel git_last_commit: be1b788 git_last_commit_date: 2025-10-29 11:13:27 -0500 (Wed, 29 Oct 2025)