Package: scater Version: 1.39.0 Command: /home/biocbuild/bbs-3.23-bioc/R/bin/R CMD INSTALL scater StartedAt: 2025-11-26 15:53:29 -0500 (Wed, 26 Nov 2025) EndedAt: 2025-11-26 15:53:59 -0500 (Wed, 26 Nov 2025) EllapsedTime: 30.0 seconds RetCode: 0 Status: OK