Package: scater Version: 1.39.0 Command: /home/biocbuild/bbs-3.23-bioc/R/bin/R CMD build --keep-empty-dirs --no-resave-data scater StartedAt: 2025-11-25 19:49:55 -0500 (Tue, 25 Nov 2025) EndedAt: 2025-11-25 19:52:59 -0500 (Tue, 25 Nov 2025) EllapsedTime: 184.2 seconds RetCode: 0 Status: OK PackageFile: scater_1.39.0.tar.gz PackageFileSize: 4.352 MiB