Package: scater Version: 1.39.0 Command: /Library/Frameworks/R.framework/Resources/bin/R CMD INSTALL scater StartedAt: 2025-11-14 15:29:02 -0500 (Fri, 14 Nov 2025) EndedAt: 2025-11-14 15:29:15 -0500 (Fri, 14 Nov 2025) EllapsedTime: 12.5 seconds RetCode: 0 Status: OK