Package: scater Version: 1.39.0 Command: /Library/Frameworks/R.framework/Resources/bin/R CMD build --keep-empty-dirs --no-resave-data scater StartedAt: 2025-11-14 17:32:16 -0500 (Fri, 14 Nov 2025) EndedAt: 2025-11-14 17:33:21 -0500 (Fri, 14 Nov 2025) EllapsedTime: 64.7 seconds RetCode: 0 Status: OK PackageFile: scater_1.39.0.tar.gz PackageFileSize: 4.386 MiB