Package: scater Version: 1.39.0 Command: rm -rf scater.buildbin-libdir && mkdir scater.buildbin-libdir && /Users/biocbuild/BBS/utils/build-universal.sh scater_1.39.0.tar.gz /Library/Frameworks/R.framework/Resources/bin/R scater.buildbin-libdir StartedAt: 2025-11-14 23:50:10 -0500 (Fri, 14 Nov 2025) EndedAt: 2025-11-14 23:50:25 -0500 (Fri, 14 Nov 2025) EllapsedTime: 15.3 seconds RetCode: 0 Status: OK PackageFile: scater_1.39.0.tgz PackageFileSize: 4.655 MiB