Package: scanMiRApp Version: 1.17.0 Command: /home/biocbuild/bbs-3.23-bioc/R/bin/R CMD build --keep-empty-dirs --no-resave-data scanMiRApp StartedAt: 2025-11-13 19:48:13 -0500 (Thu, 13 Nov 2025) EndedAt: 2025-11-13 19:49:39 -0500 (Thu, 13 Nov 2025) EllapsedTime: 86.1 seconds RetCode: 0 Status: OK PackageFile: scanMiRApp_1.17.0.tar.gz PackageFileSize: 905.8 KiB