Package: scanMiRApp Version: 1.17.0 Command: /Library/Frameworks/R.framework/Resources/bin/R CMD INSTALL scanMiRApp StartedAt: 2025-11-14 15:28:07 -0500 (Fri, 14 Nov 2025) EndedAt: 2025-11-14 15:28:26 -0500 (Fri, 14 Nov 2025) EllapsedTime: 19.1 seconds RetCode: 0 Status: OK