Package: scanMiRApp Version: 1.17.0 Command: /Library/Frameworks/R.framework/Resources/bin/R CMD build --keep-empty-dirs --no-resave-data scanMiRApp StartedAt: 2025-11-14 17:32:05 -0500 (Fri, 14 Nov 2025) EndedAt: 2025-11-14 17:32:42 -0500 (Fri, 14 Nov 2025) EllapsedTime: 36.4 seconds RetCode: 0 Status: OK PackageFile: scanMiRApp_1.17.0.tar.gz PackageFileSize: 904.7 KiB