Package: scanMiRApp Version: 1.17.0 Command: rm -rf scanMiRApp.buildbin-libdir && mkdir scanMiRApp.buildbin-libdir && /Users/biocbuild/BBS/utils/build-universal.sh scanMiRApp_1.17.0.tar.gz /Library/Frameworks/R.framework/Resources/bin/R scanMiRApp.buildbin-libdir StartedAt: 2025-11-14 23:50:06 -0500 (Fri, 14 Nov 2025) EndedAt: 2025-11-14 23:50:29 -0500 (Fri, 14 Nov 2025) EllapsedTime: 23.5 seconds RetCode: 0 Status: OK PackageFile: scanMiRApp_1.17.0.tgz PackageFileSize: 1.337 MiB