Package: scanMiR Version: 1.17.0 Command: /home/biocbuild/bbs-3.23-bioc/R/bin/R CMD INSTALL scanMiR StartedAt: 2025-11-11 15:55:06 -0500 (Tue, 11 Nov 2025) EndedAt: 2025-11-11 15:55:22 -0500 (Tue, 11 Nov 2025) EllapsedTime: 16.2 seconds RetCode: 0 Status: OK