Package: scanMiR Version: 1.17.0 Command: /Library/Frameworks/R.framework/Resources/bin/R CMD build --keep-empty-dirs --no-resave-data scanMiR StartedAt: 2025-11-12 17:08:20 -0500 (Wed, 12 Nov 2025) EndedAt: 2025-11-12 17:08:33 -0500 (Wed, 12 Nov 2025) EllapsedTime: 13.2 seconds RetCode: 0 Status: OK PackageFile: scanMiR_1.17.0.tar.gz PackageFileSize: 1.059 MiB