Package: scanMiR Version: 1.17.0 Command: rm -rf scanMiR.buildbin-libdir && mkdir scanMiR.buildbin-libdir && /Users/biocbuild/BBS/utils/build-universal.sh scanMiR_1.17.0.tar.gz /Library/Frameworks/R.framework/Resources/bin/R scanMiR.buildbin-libdir StartedAt: 2025-11-12 21:09:50 -0500 (Wed, 12 Nov 2025) EndedAt: 2025-11-12 21:09:58 -0500 (Wed, 12 Nov 2025) EllapsedTime: 8.2 seconds RetCode: 0 Status: OK PackageFile: scanMiR_1.17.0.tgz PackageFileSize: 1.311 MiB