Package: scanMiR Version: 1.17.0 Maintainer: Pierre-Luc Germain MaintainerEmail: pierre-luc.germain at hest.ethz.ch git_url: https://git.bioconductor.org/packages/scanMiR git_branch: devel git_last_commit: 6328f02 git_last_commit_date: 2025-10-29 11:10:43 -0500 (Wed, 29 Oct 2025)