Package: scTreeViz Version: 1.17.0 Command: /home/biocbuild/bbs-3.23-bioc/R/bin/R CMD INSTALL scTreeViz StartedAt: 2025-11-11 15:59:05 -0500 (Tue, 11 Nov 2025) EndedAt: 2025-11-11 16:00:11 -0500 (Tue, 11 Nov 2025) EllapsedTime: 66.0 seconds RetCode: 0 Status: OK