Package: scTreeViz Version: 1.17.0 Command: /home/biocbuild/bbs-3.23-bioc/R/bin/R CMD check --install=check:scTreeViz.install-out.txt --library=/home/biocbuild/bbs-3.23-bioc/R/site-library --timings scTreeViz_1.17.0.tar.gz StartedAt: 2025-11-14 03:49:37 -0500 (Fri, 14 Nov 2025) EndedAt: 2025-11-14 03:59:13 -0500 (Fri, 14 Nov 2025) EllapsedTime: 575.8 seconds RetCode: 0 Status: OK CheckDir: scTreeViz.Rcheck Warnings: 0