Package: scTreeViz Version: 1.17.0 Command: /home/biocbuild/bbs-3.23-bioc/R/bin/R CMD build --keep-empty-dirs --no-resave-data scTreeViz StartedAt: 2025-11-11 20:04:25 -0500 (Tue, 11 Nov 2025) EndedAt: 2025-11-11 20:06:58 -0500 (Tue, 11 Nov 2025) EllapsedTime: 153.1 seconds RetCode: 0 Status: OK PackageFile: scTreeViz_1.17.0.tar.gz PackageFileSize: 2.298 MiB