Package: scTensor Version: 2.21.0 Command: /home/biocbuild/bbs-3.23-bioc/R/bin/R CMD build --keep-empty-dirs --no-resave-data scTensor StartedAt: 2025-11-14 19:58:59 -0500 (Fri, 14 Nov 2025) EndedAt: 2025-11-14 20:00:51 -0500 (Fri, 14 Nov 2025) EllapsedTime: 112.1 seconds RetCode: 0 Status: OK PackageFile: scTensor_2.21.0.tar.gz PackageFileSize: 10.31 MiB