Package: scTensor Version: 2.21.0 Command: /Library/Frameworks/R.framework/Resources/bin/R CMD INSTALL scTensor StartedAt: 2025-11-13 15:27:54 -0500 (Thu, 13 Nov 2025) EndedAt: 2025-11-13 15:28:17 -0500 (Thu, 13 Nov 2025) EllapsedTime: 22.3 seconds RetCode: 0 Status: OK