Package: scTensor Version: 2.21.0 Command: /Library/Frameworks/R.framework/Resources/bin/R CMD build --keep-empty-dirs --no-resave-data scTensor StartedAt: 2025-11-13 17:40:07 -0500 (Thu, 13 Nov 2025) EndedAt: 2025-11-13 17:41:03 -0500 (Thu, 13 Nov 2025) EllapsedTime: 55.6 seconds RetCode: 0 Status: OK PackageFile: scTensor_2.21.0.tar.gz PackageFileSize: 10.49 MiB