Package: scTHI Version: 1.23.0 Command: /home/biocbuild/bbs-3.23-bioc/R/bin/R CMD INSTALL scTHI StartedAt: 2025-11-11 15:08:34 -0500 (Tue, 11 Nov 2025) EndedAt: 2025-11-11 15:09:01 -0500 (Tue, 11 Nov 2025) EllapsedTime: 26.8 seconds RetCode: 0 Status: OK