Package: scTHI Version: 1.23.0 Command: /Library/Frameworks/R.framework/Resources/bin/R CMD INSTALL scTHI StartedAt: 2025-11-12 15:17:23 -0500 (Wed, 12 Nov 2025) EndedAt: 2025-11-12 15:17:38 -0500 (Wed, 12 Nov 2025) EllapsedTime: 15.0 seconds RetCode: 0 Status: OK