Package: scTHI Version: 1.23.0 Command: /Library/Frameworks/R.framework/Resources/bin/R CMD build --keep-empty-dirs --no-resave-data scTHI StartedAt: 2025-11-13 17:40:27 -0500 (Thu, 13 Nov 2025) EndedAt: 2025-11-13 17:40:55 -0500 (Thu, 13 Nov 2025) EllapsedTime: 28.3 seconds RetCode: 0 Status: OK PackageFile: scTHI_1.23.0.tar.gz PackageFileSize: 898.7 KiB