Package: scTHI Version: 1.23.0 Command: rm -rf scTHI.buildbin-libdir && mkdir scTHI.buildbin-libdir && /Users/biocbuild/BBS/utils/build-universal.sh scTHI_1.23.0.tar.gz /Library/Frameworks/R.framework/Resources/bin/R scTHI.buildbin-libdir StartedAt: 2025-11-12 21:10:25 -0500 (Wed, 12 Nov 2025) EndedAt: 2025-11-12 21:10:27 -0500 (Wed, 12 Nov 2025) EllapsedTime: 2.0 seconds RetCode: 0 Status: OK PackageFile: scTHI_1.23.0.tgz PackageFileSize: 938.2 KiB