Package: scTHI Version: 1.23.0 Maintainer: Michele Ceccarelli MaintainerEmail: m.ceccarelli at gmail.com git_url: https://git.bioconductor.org/packages/scTHI git_branch: devel git_last_commit: 5cede23 git_last_commit_date: 2025-10-29 10:57:17 -0500 (Wed, 29 Oct 2025)