Package: scTGIF Version: 1.25.0 Command: /Library/Frameworks/R.framework/Resources/bin/R CMD INSTALL scTGIF StartedAt: 2025-11-13 15:15:18 -0500 (Thu, 13 Nov 2025) EndedAt: 2025-11-13 15:15:32 -0500 (Thu, 13 Nov 2025) EllapsedTime: 14.0 seconds RetCode: 0 Status: OK