Package: scTGIF Version: 1.25.0 Command: /Library/Frameworks/R.framework/Resources/bin/R CMD build --keep-empty-dirs --no-resave-data scTGIF StartedAt: 2025-11-13 17:40:09 -0500 (Thu, 13 Nov 2025) EndedAt: 2025-11-13 17:40:54 -0500 (Thu, 13 Nov 2025) EllapsedTime: 44.5 seconds RetCode: 0 Status: OK PackageFile: scTGIF_1.25.0.tar.gz PackageFileSize: 2.412 MiB