Package: scTGIF Version: 1.25.0 Command: rm -rf scTGIF.buildbin-libdir && mkdir scTGIF.buildbin-libdir && /Users/biocbuild/BBS/utils/build-universal.sh scTGIF_1.25.0.tar.gz /Library/Frameworks/R.framework/Resources/bin/R scTGIF.buildbin-libdir StartedAt: 2025-11-14 23:51:20 -0500 (Fri, 14 Nov 2025) EndedAt: 2025-11-14 23:51:41 -0500 (Fri, 14 Nov 2025) EllapsedTime: 20.4 seconds RetCode: 0 Status: OK PackageFile: scTGIF_1.25.0.tgz PackageFileSize: 2.032 MiB