Package: scTGIF Version: 1.25.0 Maintainer: Koki Tsuyuzaki MaintainerEmail: k.t.the-answer at hotmail.co.jp git_url: https://git.bioconductor.org/packages/scTGIF git_branch: devel git_last_commit: f7ab3ab git_last_commit_date: 2025-10-29 10:55:37 -0500 (Wed, 29 Oct 2025)