Package: scShapes Version: 1.17.0 Command: /home/biocbuild/bbs-3.23-bioc/R/bin/R CMD INSTALL scShapes StartedAt: 2025-11-11 15:09:23 -0500 (Tue, 11 Nov 2025) EndedAt: 2025-11-11 15:09:30 -0500 (Tue, 11 Nov 2025) EllapsedTime: 6.8 seconds RetCode: 0 Status: OK