Package: scShapes Version: 1.17.0 Command: /home/biocbuild/bbs-3.23-bioc/R/bin/R CMD build --keep-empty-dirs --no-resave-data scShapes StartedAt: 2025-11-13 19:58:27 -0500 (Thu, 13 Nov 2025) EndedAt: 2025-11-13 19:59:46 -0500 (Thu, 13 Nov 2025) EllapsedTime: 79.1 seconds RetCode: 0 Status: OK PackageFile: scShapes_1.17.0.tar.gz PackageFileSize: 30.11 KiB