Package: scShapes Version: 1.17.0 Command: /Library/Frameworks/R.framework/Resources/bin/R CMD build --keep-empty-dirs --no-resave-data scShapes StartedAt: 2025-11-13 17:40:06 -0500 (Thu, 13 Nov 2025) EndedAt: 2025-11-13 17:40:50 -0500 (Thu, 13 Nov 2025) EllapsedTime: 43.5 seconds RetCode: 0 Status: OK PackageFile: scShapes_1.17.0.tar.gz PackageFileSize: 29.84 KiB